BEGIN:VCALENDAR
PRODID:-//Microsoft Corporation//Outlook MIMEDIR//EN
VERSION:2.0
METHOD:PUBLISH
BEGIN:VEVENT
DTSTART:20260422T160000
DTEND:20260422T170000
DESCRIPTION:
LOCATION:Great Room, LaEscuelita Education Center, 1050 2nd Avenue, Oakland, CA ((entrance at or near 286 East 10th St.);  Internet Streamed - Zoom & Granicus;  Broadcasted - KDOL-TV (Comcast Channel 27 and AT&T Channel 99)
SUMMARY:Board of Education
CATEGORIES:MEETING
END:VEVENT
END:VCALENDAR
