BEGIN:VCALENDAR
PRODID:-//Microsoft Corporation//Outlook MIMEDIR//EN
VERSION:2.0
METHOD:PUBLISH
BEGIN:VEVENT
DTSTART:20260428T160000
DTEND:20260428T170000
DESCRIPTION:
LOCATION:Committee Room, KDOL TV Studio, B-237, Met West High School Entrance, 314 East 10th Street, Oakland, CA 94606-2291, Internet - Zoom & Granicus;  Broadcasted - KDOL-TV (Comcast Channel 27 and AT&T Channel 99)
SUMMARY:Career Technical Education Advisory Committee
CATEGORIES:MEETING
END:VEVENT
END:VCALENDAR
